{"text_format":"1","workbook":"xlsx","n_sheets":2,"sheets":["Magic Hexagon","Solutions"],"not_rendered":{"charts":0,"images":14,"macros":1,"external_links":0,"defined_names":2,"comments":0,"pivot_tables":0},"unopened":[],"bounds":{"document_bytes":16777216,"sheet_cells":100000,"rows_first":2000,"rows_last":500,"rows_between":2000,"halvings":0,"cell_chars":16384,"cell_head_chars":4096},"cells_cut":0,"cells_raw":0,"read":"whole","date_system":"1900"}

{"sheet":"Magic Hexagon","index":0,"n_rows":126,"n_cols":55,"rows_kept":126,"cut":false,"hidden":false,"merged":[[34,14,36,14],[39,14,41,14],[11,22,12,22],[11,17,12,20],[6,16,6,18],[8,16,8,18],[6,14,6,15],[8,14,8,15],[2,19,8,19],[2,21,2,22],[2,16,2,18]]}
[]
[]
[null,null,{"$f":"IFERROR(IF(AND($R$5=\"\",C7=\"\"),\"\",VLOOKUP($R$5,Solutions,INDEX($C$121:$AX$126,$AR$5,(COLUMN()+($AS$5*12)-2)),FALSE)),\"\")","v":1},2,8,11,12,3,4,5,6,10,7,9,null,null," Select Solution (1 -80)",null,null,"Rotate Solution",null,"Flip Solution",null,null,null,null,null,null,null,null,null,null,null,null,null,null,null,null,null,null,null,null,null,"Rotate","Flip",null,{"$f":"#REF!","v":{"$error":"#REF!"}},{"$f":"R5+1","v":2},{"$f":"C68","v":0},null,{"$f":"MAX(AY9:AY20)","v":0},null,null,null,{"$f":"IF(OR(W36=W12,W41=W12),W12,\"\")","v":""}]
[]
[null,null,"A","B","C","D","E","F","G","H","I","J","K","L",null,null,4,1,null,null,null,null,null,null,null,null,null,null,null,null,null,null,null,null,null,null,null,null,null,null,null,null,null,1,false]
[]
[null,null,null,null,null,null,null,null,null,null,null,null,null,null,"<====",null," Select  0   =   Enter"]
[null,null,null,null,null,null,null,null,null,null,null,null,null,null,null,null,null,null,null,null,null,null,null,null,null,null,null,null,null,null,null,null,null,null,null,null,null,null,null,null,null,null,null,null,null,null,null,null,0]
[null,null,null,null,null,null,null,null,null,null,null,null,null,null,{"$f":"IF(OR(Solutions!AC3=\"\",R5<>0),\"\",\"Solution # : \"&Solutions!AC3)","v":""},null," Your Own Solution",null,null,null,null,null,null,null,null,null,null,null,null,null,null,null,null,null,null,null,null,null,null,null,null,null,null,null,null,null,null,null,{"$f":"IF(AW8<$AY$3,AW8+1,\"\")","v":""},{"$f":"IFERROR(VLOOKUP(AW9,$AY$9:$AZ$20,2,FALSE),\"\")","v":""},{"$f":"COUNTIF($BA$9:BA9,0)","v":0},1,{"$f":"COUNTIF($C$3:$N$3,$AZ9)","v":1}]
[null,null,null,null,null,null,null,null,null,null,null,null,null,null,null,null,null,null,null,null,null,null,null,null,null,null,null,null,null,null,null,null,null,null,null,null,null,null,null,null,null,null,null,null,null,null,null,null,"","",{"$f":"COUNTIF($BA$9:BA10,0)","v":0},2,1]
[null,null,null,null,null,null,null,null,null,null,null,null,null,null,null,null,null,null,null,null,null,null,null,null,null,null,null,null,null,null,null,null,null,null,null,null,null,null,null,null,null,null,null,null,null,null,null,null,"","",{"$f":"COUNTIF($BA$9:BA11,0)","v":0},3,1]
[null,null,null,null,null,null,null,null,null,null,null,null,null,null,null,null,null,"TARGET (Magic Number)",null,null,null,null,26,null,null,null,null,null,null,null,null,null,null,null,null,null,null,null,null,null,null,null,null,null,null,null,null,null,"","",{"$f":"COUNTIF($BA$9:BA12,0)","v":0},4,1]
[null,null,null,null,null,null,null,null,null,null,null,null,null,null,null,null,null,null,null,null,null,"=",null,null,null,null,null,null,null,null,null,null,null,null,null,null,null,null,null,null,null,null,null,null,null,null,null,null,"","",{"$f":"COUNTIF($BA$9:BA13,0)","v":0},5,1]
[null,null,null,null,null,null,null,null,null,null,null,null,null,null,null,null,null,null,null,null,null,null,null,null,null,null,null,null,null,null,null,null,null,null,null,null,null,null,null,null,null,null,null,null,null,null,null,null,"","",{"$f":"COUNTIF($BA$9:BA14,0)","v":0},6,1]
[null,null,null,null,null,null,null,null,null,null,null,null,null,null,null,null,null,"A","B","D","E",null,null,null,null,null,null,null,null,null,null,null,null,null,null,null,null,null,null,null,null,null,null,null,null,null,null,null,"","",{"$f":"COUNTIF($BA$9:BA15,0)","v":0},7,1]
[null,null,null,null,null,null,null,null,null,null,null,null,null,null,null,null,"Line 1",{"$f":"C3","v":1},{"$f":"D3","v":2},{"$f":"F3","v":11},{"$f":"G3","v":12},"=",{"$f":"SUM(R16:U16)","v":26},null,null,null,null,null,null,null,null,null,null,null,null,null,null,null,null,null,null,null,null,null,null,null,null,null,"","",{"$f":"COUNTIF($BA$9:BA16,0)","v":0},8,1]
[null,null,null,null,null,null,null,null,null,null,null,null,null,null,null,null,null,null,null,null,null,null,null,null,null,null,null,null,null,null,null,null,null,null,null,null,null,null,null,null,null,null,null,null,null,null,null,null,"","",{"$f":"COUNTIF($BA$9:BA17,0)","v":0},9,1]
[null,null,null,null,null,null,null,null,null,null,null,null,null,null,null,null,null,"C","D","F","G",null,null,null,null,null,null,null,null,null,null,null,null,null,null,null,null,null,null,null,null,null,null,null,null,null,null,null,"","",{"$f":"COUNTIF($BA$9:BA18,0)","v":0},10,1]
[null,null,null,null,null,null,null,null,null,null,null,null,null,null,null,null,"Line 2",{"$f":"E3","v":8},{"$f":"F3","v":11},{"$f":"H3","v":3},{"$f":"I3","v":4},"=",{"$f":"SUM(R19:U19)","v":26},null,null,null,null,null,null,null,null,null,null,null,null,null,null,null,null,null,null,null,null,null,null,null,null,null,"","",{"$f":"COUNTIF($BA$9:BA19,0)","v":0},11,1]
[null,null,null,null,null,null,null,null,null,null,null,null,null,null,null,null,null,null,null,null,null,null,null,null,null,null,null,null,null,null,null,null,null,null,null,null,null,null,null,null,null,null,null,null,null,null,null,null,"","",{"$f":"COUNTIF($BA$9:BA20,0)","v":0},12,1]
[null,null,null,null,null,null,null,null,null,null,null,null,null,null,null,null,null,"E","F","H","I"]
[null,null,null,null,null,null,null,null,null,null,null,null,null,null,null,null,"Line 3",{"$f":"G3","v":12},{"$f":"H3","v":3},{"$f":"J3","v":5},{"$f":"K3","v":6},"=",{"$f":"SUM(R22:U22)","v":26},null,null,null,null,null,null,null,null,null,null,null,null," "]
[]
[null,null,null,null,null,null,null,null,null,null,null,null,null,null,null,null,null,"G","H","J","K"]
[null,null,null,null,null,null,null,null,null,null,null,null,null,null,null,null,"Line 4",{"$f":"I3","v":4},{"$f":"J3","v":5},{"$f":"L3","v":10},{"$f":"M3","v":7},"=",{"$f":"SUM(R25:U25)","v":26}]
[]
[null,null,null,null,null,null,null,null,null,null,null,null,null,null,null,null,null,"I","J","L","A"]
[null,null,null,null,null,null,null,null,null,null,null,null,null,null,null,null,"Line 5",{"$f":"K3","v":6},{"$f":"L3","v":10},{"$f":"N3","v":9},{"$f":"C3","v":1},"=",{"$f":"SUM(R28:U28)","v":26}]
[]
[null,null,null,null,null,null,null,null,null,null,null,null,null,null,null,null,null,"K","L","B","C"]
[null,null,null,null,null,null,null,null,null,null,null,null,null,null,null,null,"Line 6",{"$f":"M3","v":7},{"$f":"N3","v":9},{"$f":"D3","v":2},{"$f":"E3","v":8},"=",{"$f":"SUM(R31:U31)","v":26}]
[]
[]
[]
[null,null,null,null,null,null,null,null,null,null,null,null,null,null,"Outer\nVertices","A","C","E","G","I","K"]
[null,null,null,null,null,null,null,null,null,null,null,null,null,null,null,{"$f":"C3","v":1},{"$f":"E3","v":8},{"$f":"G3","v":12},{"$f":"I3","v":4},{"$f":"K3","v":6},{"$f":"M3","v":7},"=",{"$f":"SUM(P36:U36)","v":38}]
[]
[]
[]
[null,null,null,null,null,null,null,null,null,null,null,null,null,null,"Inner\nHexagon",{"$f":"D5","v":"B"},{"$f":"F5","v":"D"},{"$f":"H5","v":"F"},{"$f":"J5","v":"H"},{"$f":"K5","v":"I"},{"$f":"N5","v":"L"}]
[null,null,null,null,null,null,null,null,null,null,null,null,null,null,null,{"$f":"D3","v":2},{"$f":"F3","v":11},{"$f":"H3","v":3},{"$f":"J3","v":5},{"$f":"L3","v":10},{"$f":"N3","v":9},"=",{"$f":"SUM(P41:U41)","v":40}]
[]
[]
[]
[]
[]
[]
[]
[]
[]
[]
[]
[]
[null,null,null,null,null,null,null,null,null,null,null,null,null,null,null,null,"A","B","C","D","E","F","G","H","I","J","K","L"]
[null,null,1,{"$f":"D69","v":0},2,{"$f":"K69","v":0},3,{"$f":"R69","v":0},4,{"$f":"Y69","v":0},5,{"$f":"AF69","v":0},6,{"$f":"AM69","v":0},null,1,null,null,{"$f":"IF(IF(COUNTIFS(#REF!,$P55,#REF!, 1)>0,1,0)*COUNTIF(Number_Select,$P55)=1,MAX($S$54:S54)+1,0)","v":{"$error":"#REF!"}},null,null,null,null,null,null,null,null,null,{"$f":"P55","v":1}]
[null,null,null,{"$f":"D70","v":""},null,{"$f":"K70","v":""},null,{"$f":"R70","v":""},null,{"$f":"Y70","v":""},null,{"$f":"AF70","v":""},null,{"$f":"AM70","v":""},null,2,null,null,{"$f":"IF(IF(COUNTIFS(#REF!,$P56,#REF!, 1)>0,1,0)*COUNTIF(Number_Select,$P56)=1,MAX($S$54:S55)+1,0)","v":{"$error":"#REF!"}},null,null,null,null,null,null,null,null,null,{"$f":"P56","v":2}]
[null,null,null,{"$f":"D71","v":""},null,{"$f":"K71","v":""},null,{"$f":"R71","v":""},null,{"$f":"Y71","v":""},null,{"$f":"AF71","v":""},null,{"$f":"AM71","v":""},null,3,null,null,{"$f":"IF(IF(COUNTIFS(#REF!,$P57,#REF!, 1)>0,1,0)*COUNTIF(Number_Select,$P57)=1,MAX($S$54:S56)+1,0)","v":{"$error":"#REF!"}},null,null,null,null,null,null,null,null,null,3]
[null,null,null,{"$f":"D72","v":""},null,{"$f":"K72","v":""},null,{"$f":"R72","v":""},null,{"$f":"Y72","v":""},null,{"$f":"AF72","v":""},null,{"$f":"AM72","v":""},null,4,null,null,{"$f":"IF(IF(COUNTIFS(#REF!,$P58,#REF!, 1)>0,1,0)*COUNTIF(Number_Select,$P58)=1,MAX($S$54:S57)+1,0)","v":{"$error":"#REF!"}},null,null,null,null,null,null,null,null,null,4]
[null,null,null,null,null,null,null,null,null,null,null,null,null,null,null,5,null,null,{"$f":"IF(IF(COUNTIFS(#REF!,$P59,#REF!, 1)>0,1,0)*COUNTIF(Number_Select,$P59)=1,MAX($S$54:S58)+1,0)","v":{"$error":"#REF!"}},null,null,null,null,null,null,null,null,null,5]
[null,null,null,null,null,null,null,null,null,null,null,null,null,null,null,6,null,null,{"$f":"IF(IF(COUNTIFS(#REF!,$P60,#REF!, 1)>0,1,0)*COUNTIF(Number_Select,$P60)=1,MAX($S$54:S59)+1,0)","v":{"$error":"#REF!"}},null,null,null,null,null,null,null,null,null,6]
[null,null,null,null,null,null,null,null,null,null,null,null,null,null,null,7,null,null,{"$f":"IF(IF(COUNTIFS(#REF!,$P61,#REF!, 1)>0,1,0)*COUNTIF(Number_Select,$P61)=1,MAX($S$54:S60)+1,0)","v":{"$error":"#REF!"}},null,null,null,null,null,null,null,null,null,7]
[null,null,null,null,null,null,null,null,null,null,null,null,null,null,null,8,null,null,{"$f":"IF(IF(COUNTIFS(#REF!,$P62,#REF!, 1)>0,1,0)*COUNTIF(Number_Select,$P62)=1,MAX($S$54:S61)+1,0)","v":{"$error":"#REF!"}},null,null,null,null,null,null,null,null,null,8]
[null,null,null,null,null,null,null,null,null,null,null,null,null,null,null,9,null,null,{"$f":"IF(IF(COUNTIFS(#REF!,$P63,#REF!, 1)>0,1,0)*COUNTIF(Number_Select,$P63)=1,MAX($S$54:S62)+1,0)","v":{"$error":"#REF!"}},null,null,null,null,null,null,null,null,null,9]
[null,null,null,null,null,null,null,null,null,null,null,null,null,null,null,10,null,null,{"$f":"IF(IF(COUNTIFS(#REF!,$P64,#REF!, 1)>0,1,0)*COUNTIF(Number_Select,$P64)=1,MAX($S$54:S63)+1,0)","v":{"$error":"#REF!"}},null,null,null,null,null,null,null,null,null,10]
[null,null,null,null,null,null,null,null,null,null,null,null,null,null,null,11,null,null,{"$f":"IF(IF(COUNTIFS(#REF!,$P65,#REF!, 1)>0,1,0)*COUNTIF(Number_Select,$P65)=1,MAX($S$54:S64)+1,0)","v":{"$error":"#REF!"}},null,null,null,null,null,null,null,null,null,11]
[null,null,null,null,null,null,null,null,null,null,null,null,null,null,null,12,null,null,{"$f":"IF(IF(COUNTIFS(#REF!,$P66,#REF!, 1)>0,1,0)*COUNTIF(Number_Select,$P66)=1,MAX($S$54:S65)+1,0)","v":{"$error":"#REF!"}},null,null,null,null,null,null,null,null,null,12]
[null,null,null,null,null,null,null,"L1","L6",null,null,null,null,null,"L1","L2",null,null,null,null,null,"L2","L3",null,null,null,null,null,"L3","L4",null,null,null,null,null,"L4","L5",null,null,null,null,null,"L5","L6"]
[null,null,{"$f":"D69*K69*R69*Y69*AF69*AM69","v":0},"B","B","B","B","B","B",null,{"$f":"L68","v":"D"},{"$f":"M68","v":"D"},"D",{"$f":"O68","v":"D"},"D","D",null,{"$f":"S68","v":"F"},{"$f":"T68","v":"F"},"F",{"$f":"V68","v":"F"},"F","F",null,{"$f":"Z68","v":"H"},{"$f":"AA68","v":"H"},"H",{"$f":"AC68","v":"H"},"H","H",null,{"$f":"AG68","v":"J"},{"$f":"AH68","v":"J"},"J",{"$f":"AJ68","v":"J"},"J","J",null,{"$f":"AN68","v":"L"},{"$f":"AO68","v":"L"},"L",{"$f":"AQ68","v":"L"},"L","L"]
[null,null,1,{"$f":"IFERROR(VLOOKUP($C69,$E$69:$F$80,2,FALSE),IF($C$69=1,0,\"\"))","v":0},{"$f":"IF(G69=0,\"\",COUNTIF($G$69:G69,1))","v":""},{"$f":"IF(G69=0,\"\",$C69*G69)","v":""},{"$f":"COUNTIF($H$69:$H$80,$C69)*COUNTIF($I$69:$I$80,$C69)","v":0},{"$f":"IFERROR(VLOOKUP($C69,#REF!,2,FALSE),\"\")","v":""},{"$f":"IFERROR(VLOOKUP($C69,#REF!,3,FALSE),\"\")","v":""},null,{"$f":"IFERROR(VLOOKUP($C69,$L$69:$M$80,2,FALSE),IF($C$69=1,0,\"\"))","v":0},{"$f":"IF(N69=0,\"\",COUNTIF($N$69:N69,1))","v":""},{"$f":"IF(N69=0,\"\",$C69*N69)","v":""},{"$f":"COUNTIF($O$69:$O$80,$C69)*COUNTIF($P$69:$P$80,$C69)","v":0},{"$f":"IFERROR(VLOOKUP($C69,#REF!,3,FALSE),\"\")","v":""},{"$f":"IFERROR(VLOOKUP($C69,#REF!,2,FALSE),\"\")","v":""},null,{"$f":"IFERROR(VLOOKUP($C69,$S$69:$T$80,2,FALSE),IF($C$69=1,0,\"\"))","v":0},{"$f":"IF(U69=0,\"\",COUNTIF($U$69:U69,1))","v":""},{"$f":"IF(U69=0,\"\",$C69*U69)","v":""},{"$f":"COUNTIF($V$69:$V$80,$C69)*COUNTIF($W$69:$W$80,$C69)","v":0},{"$f":"IFERROR(VLOOKUP($C69,#REF!,3,FALSE),\"\")","v":""},{"$f":"IFERROR(VLOOKUP($C69,#REF!,2,FALSE),\"\")","v":""},null,{"$f":"IFERROR(VLOOKUP($C69,$Z$69:$AA$80,2,FALSE),IF($C$69=1,0,\"\"))","v":0},{"$f":"IF(AB69=0,\"\",COUNTIF($AB$69:AB69,1))","v":""},{"$f":"IF(AB69=0,\"\",$C69*AB69)","v":""},{"$f":"COUNTIF($AC$69:$AC$80,$C69)*COUNTIF($AD$69:$AD$80,$C69)","v":0},{"$f":"IFERROR(VLOOKUP($C69,#REF!,3,FALSE),\"\")","v":""},{"$f":"IFERROR(VLOOKUP($C69,#REF!,2,FALSE),\"\")","v":""},null,{"$f":"IFERROR(VLOOKUP($C69,$AG$69:$AH$80,2,FALSE),IF($C$69=1,0,\"\"))","v":0},{"$f":"IF(AI69=0,\"\",COUNTIF($AI$69:AI69,1))","v":""},{"$f":"IF(AI69=0,\"\",$C69*AI69)","v":""},{"$f":"COUNTIF($AJ$69:$AJ$80,$C69)*COUNTIF($AK$69:$AK$80,$C69)","v":0},{"$f":"IFERROR(VLOOKUP($C69,#REF!,3,FALSE),\"\")","v":""},{"$f":"IFERROR(VLOOKUP($C69,#REF!,2,FALSE),\"\")","v":""},null,{"$f":"IFERROR(VLOOKUP($C69,$AN$69:$AO$80,2,FALSE),IF($C$69=1,0,\"\"))","v":0},{"$f":"IF(AP69=0,\"\",COUNTIF($AP$69:AP69,1))","v":""},{"$f":"IF(AP69=0,\"\",$C69*AP69)","v":""},{"$f":"COUNTIF($AQ$69:$AQ$80,$C69)*COUNTIF($AR$69:$AR$80,$C69)","v":0},{"$f":"IFERROR(VLOOKUP($C69,#REF!,3,FALSE),\"\")","v":""},{"$f":"IFERROR(VLOOKUP($C69,#REF!,2,FALSE),\"\")","v":""},{"$f":"C69","v":1}]
[null,null,2,{"$f":"IFERROR(VLOOKUP($C70,$E$69:$F$80,2,FALSE),\"\")","v":""},{"$f":"IF(G70=0,\"\",COUNTIF($G$69:G70,1))","v":""},"",0,{"$f":"IFERROR(VLOOKUP($C70,#REF!,2,FALSE),\"\")","v":""},{"$f":"IFERROR(VLOOKUP($C70,#REF!,3,FALSE),\"\")","v":""},null,{"$f":"IFERROR(VLOOKUP($C70,$L$69:$M$80,2,FALSE),\"\")","v":""},{"$f":"IF(N70=0,\"\",COUNTIF($N$69:N70,1))","v":""},{"$f":"IF(N70=0,\"\",$C70*N70)","v":""},{"$f":"COUNTIF($O$69:$O$80,$C70)*COUNTIF($P$69:$P$80,$C70)","v":0},{"$f":"IFERROR(VLOOKUP($C70,#REF!,3,FALSE),\"\")","v":""},{"$f":"IFERROR(VLOOKUP(C70,#REF!,2,FALSE),\"\")","v":""},null,{"$f":"IFERROR(VLOOKUP($C70,$S$69:$T$80,2,FALSE),\"\")","v":""},{"$f":"IF(U70=0,\"\",COUNTIF($U$69:U70,1))","v":""},{"$f":"IF(U70=0,\"\",$C70*U70)","v":""},{"$f":"COUNTIF($V$69:$V$80,$C70)*COUNTIF($W$69:$W$80,$C70)","v":0},{"$f":"IFERROR(VLOOKUP($C70,#REF!,3,FALSE),\"\")","v":""},{"$f":"IFERROR(VLOOKUP($C70,#REF!,2,FALSE),\"\")","v":""},null,{"$f":"IFERROR(VLOOKUP($C70,$Z$69:$AA$80,2,FALSE),\"\")","v":""},{"$f":"IF(AB70=0,\"\",COUNTIF($AB$69:AB70,1))","v":""},{"$f":"IF(AB70=0,\"\",$C70*AB70)","v":""},{"$f":"COUNTIF($AC$69:$AC$80,$C70)*COUNTIF($AD$69:$AD$80,$C70)","v":0},{"$f":"IFERROR(VLOOKUP($C70,#REF!,3,FALSE),\"\")","v":""},{"$f":"IFERROR(VLOOKUP($C70,#REF!,2,FALSE),\"\")","v":""},null,{"$f":"IFERROR(VLOOKUP($C70,$AG$69:$AH$80,2,FALSE),\"\")","v":""},{"$f":"IF(AI70=0,\"\",COUNTIF($AI$69:AI70,1))","v":""},{"$f":"IF(AI70=0,\"\",$C70*AI70)","v":""},{"$f":"COUNTIF($AJ$69:$AJ$80,$C70)*COUNTIF($AK$69:$AK$80,$C70)","v":0},{"$f":"IFERROR(VLOOKUP($C70,#REF!,3,FALSE),\"\")","v":""},{"$f":"IFERROR(VLOOKUP($C70,#REF!,2,FALSE),\"\")","v":""},null,{"$f":"IFERROR(VLOOKUP($C70,$AN$69:$AO$80,2,FALSE),\"\")","v":""},{"$f":"IF(AP70=0,\"\",COUNTIF($AP$69:AP70,1))","v":""},{"$f":"IF(AP70=0,\"\",$C70*AP70)","v":""},{"$f":"COUNTIF($AQ$69:$AQ$80,$C70)*COUNTIF($AR$69:$AR$80,$C70)","v":0},{"$f":"IFERROR(VLOOKUP($C70,#REF!,3,FALSE),\"\")","v":""},{"$f":"IFERROR(VLOOKUP($C70,#REF!,2,FALSE),\"\")","v":""},2]
[null,null,3,"",{"$f":"IF(G71=0,\"\",COUNTIF($G$69:G71,1))","v":""},"",0,{"$f":"IFERROR(VLOOKUP($C71,#REF!,2,FALSE),\"\")","v":""},{"$f":"IFERROR(VLOOKUP(C71,#REF!,2,FALSE),\"\")","v":""},null,"",{"$f":"IF(N71=0,\"\",COUNTIF($N$69:N71,1))","v":""},"",0,{"$f":"IFERROR(VLOOKUP($C71,#REF!,3,FALSE),\"\")","v":""},{"$f":"IFERROR(VLOOKUP(C71,#REF!,2,FALSE),\"\")","v":""},null,"",{"$f":"IF(U71=0,\"\",COUNTIF($U$69:U71,1))","v":""},"",0,{"$f":"IFERROR(VLOOKUP($C71,#REF!,3,FALSE),\"\")","v":""},{"$f":"IFERROR(VLOOKUP($C71,#REF!,2,FALSE),\"\")","v":""},null,"",{"$f":"IF(AB71=0,\"\",COUNTIF($AB$69:AB71,1))","v":""},"",0,{"$f":"IFERROR(VLOOKUP($C71,#REF!,3,FALSE),\"\")","v":""},{"$f":"IFERROR(VLOOKUP($C71,#REF!,2,FALSE),\"\")","v":""},null,"",{"$f":"IF(AI71=0,\"\",COUNTIF($AI$69:AI71,1))","v":""},"",0,{"$f":"IFERROR(VLOOKUP($C71,#REF!,3,FALSE),\"\")","v":""},{"$f":"IFERROR(VLOOKUP($C71,#REF!,2,FALSE),\"\")","v":""},null,"",{"$f":"IF(AP71=0,\"\",COUNTIF($AP$69:AP71,1))","v":""},"",0,{"$f":"IFERROR(VLOOKUP($C71,#REF!,3,FALSE),\"\")","v":""},{"$f":"IFERROR(VLOOKUP($C71,#REF!,2,FALSE),\"\")","v":""},3]
[null,null,4,"",{"$f":"IF(G72=0,\"\",COUNTIF($G$69:G72,1))","v":""},"",0,{"$f":"IFERROR(VLOOKUP($C72,#REF!,2,FALSE),\"\")","v":""},{"$f":"IFERROR(VLOOKUP(C72,#REF!,2,FALSE),\"\")","v":""},null,"",{"$f":"IF(N72=0,\"\",COUNTIF($N$69:N72,1))","v":""},"",0,{"$f":"IFERROR(VLOOKUP($C72,#REF!,3,FALSE),\"\")","v":""},{"$f":"IFERROR(VLOOKUP(C72,#REF!,2,FALSE),\"\")","v":""},null,"",{"$f":"IF(U72=0,\"\",COUNTIF($U$69:U72,1))","v":""},"",0,{"$f":"IFERROR(VLOOKUP($C72,#REF!,3,FALSE),\"\")","v":""},{"$f":"IFERROR(VLOOKUP($C72,#REF!,2,FALSE),\"\")","v":""},null,"",{"$f":"IF(AB72=0,\"\",COUNTIF($AB$69:AB72,1))","v":""},"",0,{"$f":"IFERROR(VLOOKUP($C72,#REF!,3,FALSE),\"\")","v":""},{"$f":"IFERROR(VLOOKUP($C72,#REF!,2,FALSE),\"\")","v":""},null,"",{"$f":"IF(AI72=0,\"\",COUNTIF($AI$69:AI72,1))","v":""},"",0,{"$f":"IFERROR(VLOOKUP($C72,#REF!,3,FALSE),\"\")","v":""},{"$f":"IFERROR(VLOOKUP($C72,#REF!,2,FALSE),\"\")","v":""},null,"",{"$f":"IF(AP72=0,\"\",COUNTIF($AP$69:AP72,1))","v":""},"",0,{"$f":"IFERROR(VLOOKUP($C72,#REF!,3,FALSE),\"\")","v":""},{"$f":"IFERROR(VLOOKUP($C72,#REF!,2,FALSE),\"\")","v":""},4]
[null,null,5,"",{"$f":"IF(G73=0,\"\",COUNTIF($G$69:G73,1))","v":""},"",0,{"$f":"IFERROR(VLOOKUP($C73,#REF!,2,FALSE),\"\")","v":""},{"$f":"IFERROR(VLOOKUP(C73,#REF!,2,FALSE),\"\")","v":""},null,"",{"$f":"IF(N73=0,\"\",COUNTIF($N$69:N73,1))","v":""},"",0,{"$f":"IFERROR(VLOOKUP($C73,#REF!,3,FALSE),\"\")","v":""},{"$f":"IFERROR(VLOOKUP(C73,#REF!,2,FALSE),\"\")","v":""},null,"",{"$f":"IF(U73=0,\"\",COUNTIF($U$69:U73,1))","v":""},"",0,{"$f":"IFERROR(VLOOKUP($C73,#REF!,3,FALSE),\"\")","v":""},{"$f":"IFERROR(VLOOKUP($C73,#REF!,2,FALSE),\"\")","v":""},null,"",{"$f":"IF(AB73=0,\"\",COUNTIF($AB$69:AB73,1))","v":""},"",0,{"$f":"IFERROR(VLOOKUP($C73,#REF!,3,FALSE),\"\")","v":""},{"$f":"IFERROR(VLOOKUP($C73,#REF!,2,FALSE),\"\")","v":""},null,"",{"$f":"IF(AI73=0,\"\",COUNTIF($AI$69:AI73,1))","v":""},"",0,{"$f":"IFERROR(VLOOKUP($C73,#REF!,3,FALSE),\"\")","v":""},{"$f":"IFERROR(VLOOKUP($C73,#REF!,2,FALSE),\"\")","v":""},null,"",{"$f":"IF(AP73=0,\"\",COUNTIF($AP$69:AP73,1))","v":""},"",0,{"$f":"IFERROR(VLOOKUP($C73,#REF!,3,FALSE),\"\")","v":""},{"$f":"IFERROR(VLOOKUP($C73,#REF!,2,FALSE),\"\")","v":""},5]
[null,null,6,"",{"$f":"IF(G74=0,\"\",COUNTIF($G$69:G74,1))","v":""},"",0,{"$f":"IFERROR(VLOOKUP($C74,#REF!,2,FALSE),\"\")","v":""},{"$f":"IFERROR(VLOOKUP(C74,#REF!,2,FALSE),\"\")","v":""},null,"",{"$f":"IF(N74=0,\"\",COUNTIF($N$69:N74,1))","v":""},"",0,{"$f":"IFERROR(VLOOKUP($C74,#REF!,3,FALSE),\"\")","v":""},{"$f":"IFERROR(VLOOKUP(C74,#REF!,2,FALSE),\"\")","v":""},null,"",{"$f":"IF(U74=0,\"\",COUNTIF($U$69:U74,1))","v":""},"",0,{"$f":"IFERROR(VLOOKUP($C74,#REF!,3,FALSE),\"\")","v":""},{"$f":"IFERROR(VLOOKUP($C74,#REF!,2,FALSE),\"\")","v":""},null,"",{"$f":"IF(AB74=0,\"\",COUNTIF($AB$69:AB74,1))","v":""},"",0,{"$f":"IFERROR(VLOOKUP($C74,#REF!,3,FALSE),\"\")","v":""},{"$f":"IFERROR(VLOOKUP($C74,#REF!,2,FALSE),\"\")","v":""},null,"",{"$f":"IF(AI74=0,\"\",COUNTIF($AI$69:AI74,1))","v":""},"",0,{"$f":"IFERROR(VLOOKUP($C74,#REF!,3,FALSE),\"\")","v":""},{"$f":"IFERROR(VLOOKUP($C74,#REF!,2,FALSE),\"\")","v":""},null,"",{"$f":"IF(AP74=0,\"\",COUNTIF($AP$69:AP74,1))","v":""},"",0,{"$f":"IFERROR(VLOOKUP($C74,#REF!,3,FALSE),\"\")","v":""},{"$f":"IFERROR(VLOOKUP($C74,#REF!,2,FALSE),\"\")","v":""},6]
[null,null,7,"",{"$f":"IF(G75=0,\"\",COUNTIF($G$69:G75,1))","v":""},"",0,{"$f":"IFERROR(VLOOKUP($C75,#REF!,2,FALSE),\"\")","v":""},{"$f":"IFERROR(VLOOKUP(C75,#REF!,2,FALSE),\"\")","v":""},null,"",{"$f":"IF(N75=0,\"\",COUNTIF($N$69:N75,1))","v":""},"",0,{"$f":"IFERROR(VLOOKUP($C75,#REF!,3,FALSE),\"\")","v":""},{"$f":"IFERROR(VLOOKUP(C75,#REF!,2,FALSE),\"\")","v":""},null,"",{"$f":"IF(U75=0,\"\",COUNTIF($U$69:U75,1))","v":""},"",0,{"$f":"IFERROR(VLOOKUP($C75,#REF!,3,FALSE),\"\")","v":""},{"$f":"IFERROR(VLOOKUP($C75,#REF!,2,FALSE),\"\")","v":""},null,"",{"$f":"IF(AB75=0,\"\",COUNTIF($AB$69:AB75,1))","v":""},"",0,{"$f":"IFERROR(VLOOKUP($C75,#REF!,3,FALSE),\"\")","v":""},{"$f":"IFERROR(VLOOKUP($C75,#REF!,2,FALSE),\"\")","v":""},null,"",{"$f":"IF(AI75=0,\"\",COUNTIF($AI$69:AI75,1))","v":""},"",0,{"$f":"IFERROR(VLOOKUP($C75,#REF!,3,FALSE),\"\")","v":""},{"$f":"IFERROR(VLOOKUP($C75,#REF!,2,FALSE),\"\")","v":""},null,"",{"$f":"IF(AP75=0,\"\",COUNTIF($AP$69:AP75,1))","v":""},"",0,{"$f":"IFERROR(VLOOKUP($C75,#REF!,3,FALSE),\"\")","v":""},{"$f":"IFERROR(VLOOKUP($C75,#REF!,2,FALSE),\"\")","v":""},7]
[null,null,8,"",{"$f":"IF(G76=0,\"\",COUNTIF($G$69:G76,1))","v":""},"",0,{"$f":"IFERROR(VLOOKUP($C76,#REF!,2,FALSE),\"\")","v":""},{"$f":"IFERROR(VLOOKUP(C76,#REF!,2,FALSE),\"\")","v":""},null,"",{"$f":"IF(N76=0,\"\",COUNTIF($N$69:N76,1))","v":""},"",0,{"$f":"IFERROR(VLOOKUP($C76,#REF!,3,FALSE),\"\")","v":""},{"$f":"IFERROR(VLOOKUP(C76,#REF!,2,FALSE),\"\")","v":""},null,"",{"$f":"IF(U76=0,\"\",COUNTIF($U$69:U76,1))","v":""},"",0,{"$f":"IFERROR(VLOOKUP($C76,#REF!,3,FALSE),\"\")","v":""},{"$f":"IFERROR(VLOOKUP($C76,#REF!,2,FALSE),\"\")","v":""},null,"",{"$f":"IF(AB76=0,\"\",COUNTIF($AB$69:AB76,1))","v":""},"",0,{"$f":"IFERROR(VLOOKUP($C76,#REF!,3,FALSE),\"\")","v":""},{"$f":"IFERROR(VLOOKUP($C76,#REF!,2,FALSE),\"\")","v":""},null,"",{"$f":"IF(AI76=0,\"\",COUNTIF($AI$69:AI76,1))","v":""},"",0,{"$f":"IFERROR(VLOOKUP($C76,#REF!,3,FALSE),\"\")","v":""},{"$f":"IFERROR(VLOOKUP($C76,#REF!,2,FALSE),\"\")","v":""},null,"",{"$f":"IF(AP76=0,\"\",COUNTIF($AP$69:AP76,1))","v":""},"",0,{"$f":"IFERROR(VLOOKUP($C76,#REF!,3,FALSE),\"\")","v":""},{"$f":"IFERROR(VLOOKUP($C76,#REF!,2,FALSE),\"\")","v":""},8]
[null,null,9,"",{"$f":"IF(G77=0,\"\",COUNTIF($G$69:G77,1))","v":""},"",0,{"$f":"IFERROR(VLOOKUP($C77,#REF!,2,FALSE),\"\")","v":""},{"$f":"IFERROR(VLOOKUP(C77,#REF!,2,FALSE),\"\")","v":""},null,"",{"$f":"IF(N77=0,\"\",COUNTIF($N$69:N77,1))","v":""},"",0,{"$f":"IFERROR(VLOOKUP($C77,#REF!,3,FALSE),\"\")","v":""},{"$f":"IFERROR(VLOOKUP(C77,#REF!,2,FALSE),\"\")","v":""},null,"",{"$f":"IF(U77=0,\"\",COUNTIF($U$69:U77,1))","v":""},"",0,{"$f":"IFERROR(VLOOKUP($C77,#REF!,3,FALSE),\"\")","v":""},{"$f":"IFERROR(VLOOKUP($C77,#REF!,2,FALSE),\"\")","v":""},null,"",{"$f":"IF(AB77=0,\"\",COUNTIF($AB$69:AB77,1))","v":""},"",0,{"$f":"IFERROR(VLOOKUP($C77,#REF!,3,FALSE),\"\")","v":""},{"$f":"IFERROR(VLOOKUP($C77,#REF!,2,FALSE),\"\")","v":""},null,"",{"$f":"IF(AI77=0,\"\",COUNTIF($AI$69:AI77,1))","v":""},"",0,{"$f":"IFERROR(VLOOKUP($C77,#REF!,3,FALSE),\"\")","v":""},{"$f":"IFERROR(VLOOKUP($C77,#REF!,2,FALSE),\"\")","v":""},null,"",{"$f":"IF(AP77=0,\"\",COUNTIF($AP$69:AP77,1))","v":""},"",0,{"$f":"IFERROR(VLOOKUP($C77,#REF!,3,FALSE),\"\")","v":""},{"$f":"IFERROR(VLOOKUP($C77,#REF!,2,FALSE),\"\")","v":""},9]
[null,null,10,"",{"$f":"IF(G78=0,\"\",COUNTIF($G$69:G78,1))","v":""},"",0,{"$f":"IFERROR(VLOOKUP($C78,#REF!,2,FALSE),\"\")","v":""},{"$f":"IFERROR(VLOOKUP(C78,#REF!,2,FALSE),\"\")","v":""},null,"",{"$f":"IF(N78=0,\"\",COUNTIF($N$69:N78,1))","v":""},"",0,{"$f":"IFERROR(VLOOKUP($C78,#REF!,3,FALSE),\"\")","v":""},{"$f":"IFERROR(VLOOKUP(C78,#REF!,2,FALSE),\"\")","v":""},null,"",{"$f":"IF(U78=0,\"\",COUNTIF($U$69:U78,1))","v":""},"",0,{"$f":"IFERROR(VLOOKUP($C78,#REF!,3,FALSE),\"\")","v":""},{"$f":"IFERROR(VLOOKUP($C78,#REF!,2,FALSE),\"\")","v":""},null,"",{"$f":"IF(AB78=0,\"\",COUNTIF($AB$69:AB78,1))","v":""},"",0,{"$f":"IFERROR(VLOOKUP($C78,#REF!,3,FALSE),\"\")","v":""},{"$f":"IFERROR(VLOOKUP($C78,#REF!,2,FALSE),\"\")","v":""},null,"",{"$f":"IF(AI78=0,\"\",COUNTIF($AI$69:AI78,1))","v":""},"",0,{"$f":"IFERROR(VLOOKUP($C78,#REF!,3,FALSE),\"\")","v":""},{"$f":"IFERROR(VLOOKUP($C78,#REF!,2,FALSE),\"\")","v":""},null,"",{"$f":"IF(AP78=0,\"\",COUNTIF($AP$69:AP78,1))","v":""},"",0,{"$f":"IFERROR(VLOOKUP($C78,#REF!,3,FALSE),\"\")","v":""},{"$f":"IFERROR(VLOOKUP($C78,#REF!,2,FALSE),\"\")","v":""},10]
[null,null,11,"",{"$f":"IF(G79=0,\"\",COUNTIF($G$69:G79,1))","v":""},"",0,{"$f":"IFERROR(VLOOKUP($C79,#REF!,2,FALSE),\"\")","v":""},{"$f":"IFERROR(VLOOKUP(C79,#REF!,2,FALSE),\"\")","v":""},null,"",{"$f":"IF(N79=0,\"\",COUNTIF($N$69:N79,1))","v":""},"",0,{"$f":"IFERROR(VLOOKUP($C79,#REF!,3,FALSE),\"\")","v":""},{"$f":"IFERROR(VLOOKUP(C79,#REF!,2,FALSE),\"\")","v":""},null,"",{"$f":"IF(U79=0,\"\",COUNTIF($U$69:U79,1))","v":""},"",0,{"$f":"IFERROR(VLOOKUP($C79,#REF!,3,FALSE),\"\")","v":""},{"$f":"IFERROR(VLOOKUP($C79,#REF!,2,FALSE),\"\")","v":""},null,"",{"$f":"IF(AB79=0,\"\",COUNTIF($AB$69:AB79,1))","v":""},"",0,{"$f":"IFERROR(VLOOKUP($C79,#REF!,3,FALSE),\"\")","v":""},{"$f":"IFERROR(VLOOKUP($C79,#REF!,2,FALSE),\"\")","v":""},null,"",{"$f":"IF(AI79=0,\"\",COUNTIF($AI$69:AI79,1))","v":""},"",0,{"$f":"IFERROR(VLOOKUP($C79,#REF!,3,FALSE),\"\")","v":""},{"$f":"IFERROR(VLOOKUP($C79,#REF!,2,FALSE),\"\")","v":""},null,"",{"$f":"IF(AP79=0,\"\",COUNTIF($AP$69:AP79,1))","v":""},"",0,{"$f":"IFERROR(VLOOKUP($C79,#REF!,3,FALSE),\"\")","v":""},{"$f":"IFERROR(VLOOKUP($C79,#REF!,2,FALSE),\"\")","v":""},11]
[null,null,12,"",{"$f":"IF(G80=0,\"\",COUNTIF($G$69:G80,1))","v":""},"",0,{"$f":"IFERROR(VLOOKUP($C80,#REF!,2,FALSE),\"\")","v":""},{"$f":"IFERROR(VLOOKUP(C80,#REF!,2,FALSE),\"\")","v":""},null,"",{"$f":"IF(N80=0,\"\",COUNTIF($N$69:N80,1))","v":""},"",0,{"$f":"IFERROR(VLOOKUP($C80,#REF!,3,FALSE),\"\")","v":""},{"$f":"IFERROR(VLOOKUP(C80,#REF!,2,FALSE),\"\")","v":""},null,"",{"$f":"IF(U80=0,\"\",COUNTIF($U$69:U80,1))","v":""},"",0,{"$f":"IFERROR(VLOOKUP($C80,#REF!,3,FALSE),\"\")","v":""},{"$f":"IFERROR(VLOOKUP($C80,#REF!,2,FALSE),\"\")","v":""},null,"",{"$f":"IF(AB80=0,\"\",COUNTIF($AB$69:AB80,1))","v":""},"",0,{"$f":"IFERROR(VLOOKUP($C80,#REF!,3,FALSE),\"\")","v":""},{"$f":"IFERROR(VLOOKUP($C80,#REF!,2,FALSE),\"\")","v":""},null,"",{"$f":"IF(AI80=0,\"\",COUNTIF($AI$69:AI80,1))","v":""},"",0,{"$f":"IFERROR(VLOOKUP($C80,#REF!,3,FALSE),\"\")","v":""},{"$f":"IFERROR(VLOOKUP($C80,#REF!,2,FALSE),\"\")","v":""},null,"",{"$f":"IF(AP80=0,\"\",COUNTIF($AP$69:AP80,1))","v":""},"",0,{"$f":"IFERROR(VLOOKUP($C80,#REF!,3,FALSE),\"\")","v":""},{"$f":"IFERROR(VLOOKUP($C80,#REF!,2,FALSE),\"\")","v":""},12]
[]
[]
[]
[null,null,{"$f":"Solutions!AB5","v":"-----------"}]
[]
[]
[]
[]
[]
[]
[]
[]
[]
[]
[]
[]
[]
[]
[]
[]
[]
[]
[]
[]
[]
[]
[null,null,{"$f":"C3","v":1},2,8,11,12,3,4,5,6,10,7,9]
[null,null,"A","B","C","D","E","F","G","H","I","J","K","L"]
[null,null,{"$f":"C3","v":1},{"$f":"D3","v":2},{"$f":"IFERROR(VLOOKUP(P109,S108:AC120,11,FALSE),\"\")","v":""},{"$f":"F3","v":11},{"$f":"G3","v":12},null,null,null,null,null,null,null,1]
[null,null,null,null,{"$f":"E3","v":8},{"$f":"F3","v":11},null,{"$f":"H3","v":3},{"$f":"I3","v":4},null,null,null,null,null,2]
[null,null,null,null,{"$f":"IFERROR(VLOOKUP(P111,S110:AC122,11,FALSE),\"\")","v":""},null,{"$f":"G3","v":12},{"$f":"H3","v":3},null,{"$f":"J3","v":5},{"$f":"K3","v":6},null,null,null,3]
[null,null,null,null,"",null,null,null,{"$f":"I3","v":4},{"$f":"J3","v":5},null,{"$f":"L3","v":10},{"$f":"M3","v":7},null,4]
[null,null,{"$f":"C3","v":1},null,"",null,null,null,null,null,{"$f":"K3","v":6},{"$f":"L3","v":10},null,{"$f":"N3","v":9},5]
[null,null,null,{"$f":"D3","v":2},{"$f":"E3","v":8},null,null,null,null,null,null,null,{"$f":"M3","v":7},{"$f":"N3","v":9},6]
[null,null,null,null,""]
[null,null,null,null,""]
[null,null,null,null,""]
[null,null,null,null,""]
[null,null,"A","B","C","D","E","F","G","H","I","J","K","L","A","B","C","D","E","F","G","H","I","J","K","L","A","B","C","D","E","F","G","H","I","J","K","L","A","B","C","D","E","F","G","H","I","J","K","L"]
[null,null,"Rotation",null,{"$f":"IFERROR(VLOOKUP(O120,S119:AC131,11,FALSE),\"\")","v":""},null,null,null,null,null,null,null,null,null,"V-Flip",null,null,null,null,null,null,null,null,null,null,null,"H-Flip",null,null,null,null,null,null,null,null,null,null,null,"H&V-Flip"]
[1,null,3,4,5,6,7,8,9,10,11,12,13,14,{"$f":"C121","v":3},{"$f":"N121","v":14},{"$f":"M121","v":13},{"$f":"L121","v":12},{"$f":"K121","v":11},{"$f":"J121","v":10},{"$f":"I121","v":9},{"$f":"H121","v":8},{"$f":"G121","v":7},{"$f":"F121","v":6},{"$f":"E121","v":5},{"$f":"D121","v":4},{"$f":"I121","v":9},{"$f":"H121","v":8},{"$f":"G121","v":7},{"$f":"F121","v":6},{"$f":"E121","v":5},{"$f":"D121","v":4},{"$f":"C121","v":3},{"$f":"N121","v":14},{"$f":"M121","v":13},{"$f":"L121","v":12},{"$f":"K121","v":11},{"$f":"J121","v":10},{"$f":"AA121","v":9},{"$f":"AL121","v":10},{"$f":"AK121","v":11},{"$f":"AJ121","v":12},{"$f":"AI121","v":13},{"$f":"AH121","v":14},{"$f":"AG121","v":3},{"$f":"AF121","v":4},{"$f":"AE121","v":5},{"$f":"AD121","v":6},{"$f":"AC121","v":7},{"$f":"AB121","v":8}]
[2,null,13,14,3,4,5,6,7,8,9,10,11,12,{"$f":"C122","v":13},{"$f":"N122","v":12},{"$f":"M122","v":11},{"$f":"L122","v":10},{"$f":"K122","v":9},{"$f":"J122","v":8},{"$f":"I122","v":7},{"$f":"H122","v":6},{"$f":"G122","v":5},{"$f":"F122","v":4},{"$f":"E122","v":3},{"$f":"D122","v":14},{"$f":"I122","v":7},{"$f":"H122","v":6},{"$f":"G122","v":5},{"$f":"F122","v":4},{"$f":"E122","v":3},{"$f":"D122","v":14},{"$f":"C122","v":13},{"$f":"N122","v":12},{"$f":"M122","v":11},{"$f":"L122","v":10},{"$f":"K122","v":9},{"$f":"J122","v":8},{"$f":"AA122","v":7},{"$f":"AL122","v":8},{"$f":"AK122","v":9},{"$f":"AJ122","v":10},{"$f":"AI122","v":11},{"$f":"AH122","v":12},{"$f":"AG122","v":13},{"$f":"AF122","v":14},{"$f":"AE122","v":3},{"$f":"AD122","v":4},{"$f":"AC122","v":5},{"$f":"AB122","v":6}]
[3,null,11,12,13,14,3,4,5,6,7,8,9,10,11,10,9,8,7,6,5,4,3,14,13,12,5,4,3,14,13,12,11,10,9,8,7,6,5,6,7,8,9,10,11,12,13,14,3,4]
[4,null,9,10,11,12,13,14,3,4,5,6,7,8,9,8,7,6,5,4,3,14,13,12,11,10,3,14,13,12,11,10,9,8,7,6,5,4,3,4,5,6,7,8,9,10,11,12,13,14]
[5,null,7,8,9,10,11,12,13,14,3,4,5,6,7,6,5,4,3,14,13,12,11,10,9,8,13,12,11,10,9,8,7,6,5,4,3,14,13,14,3,4,5,6,7,8,9,10,11,12]
[6,null,5,6,7,8,9,10,11,12,13,14,3,4,5,4,3,14,13,12,11,10,9,8,7,6,11,10,9,8,7,6,5,4,3,14,13,12,11,12,13,14,3,4,5,6,7,8,9,10]

{"sheet":"Solutions","index":1,"n_rows":88,"n_cols":78,"rows_kept":88,"cut":false,"hidden":true,"merged":[]}
["                                                         Comple.    Pnts.Totl  Pnt ",null,null,null,null,null,null,null,null,null,null,null,null,null,null,null,null,null,null,null,null,null,null,null,null,null,null,null,null,null,"Rotation 1"]
["Sol. M.S. |---- Basic Solutions (Upper case = peaks)----| Sol. Pair  All  Each  Prs  H.E.D.  H",null,null,null,null,null,null,null,null,null,null,null,null,null,null,null,null,null,null,null,null,null,null,null,null,null,null,null,null,null,null,null,null,null,null,null,null,null,null,null,null,null,"V-Flip",null,null,null,null,null,null,null,null,null,null,null,"H-Flip",null,null,null,null,null,null,null,null,null,null,null,"H&V-Flip"]
["#","Set","A","B","C","D","E","F","G","H","I","J","K","L","#","#","Pnts","Tri.",{"$f":"13","v":13},"Class","Group",null,null,null,null,null,null,null,{"$f":"IF(SUM(AC4:AC15)=0,\"\",SUM(AC4:AC15))","v":""},null,"A","B","C","D","E","F","G","H","I","J","K","L","A","B","C","D","E","F","G","H","I","J","K","L","A","B","C","D","E","F","G","H","I","J","K","L","A","B","C","D","E","F","G","H","I","J","K","L"]
[0,null,{"$f":"IF('Magic Hexagon'!C7=0,\"\",'Magic Hexagon'!C7)","v":""},{"$f":"IF('Magic Hexagon'!D7=0,\"\",'Magic Hexagon'!D7)","v":""},{"$f":"IF('Magic Hexagon'!E7=0,\"\",'Magic Hexagon'!E7)","v":""},{"$f":"IF('Magic Hexagon'!F7=0,\"\",'Magic Hexagon'!F7)","v":""},{"$f":"IF('Magic Hexagon'!G7=0,\"\",'Magic Hexagon'!G7)","v":""},{"$f":"IF('Magic Hexagon'!H7=0,\"\",'Magic Hexagon'!H7)","v":""},{"$f":"IF('Magic Hexagon'!I7=0,\"\",'Magic Hexagon'!I7)","v":""},{"$f":"IF('Magic Hexagon'!J7=0,\"\",'Magic Hexagon'!J7)","v":""},{"$f":"IF('Magic Hexagon'!K7=0,\"\",'Magic Hexagon'!K7)","v":""},{"$f":"IF('Magic Hexagon'!L7=0,\"\",'Magic Hexagon'!L7)","v":""},{"$f":"IF('Magic Hexagon'!M7=0,\"\",'Magic Hexagon'!M7)","v":""},{"$f":"IF('Magic Hexagon'!N7=0,\"\",'Magic Hexagon'!N7)","v":""},null,null,null,null,null,null,null,null,null,null,{"$f":"C4&\"-\"&D4&\"-\"&E4&\"-\"&F4&\"-\"&G4&\"-\"&H4&\"-\"&I4&\"-\"&J4&\"-\"&K4&\"-\"&L4&\"-\"&M4&\"-\"&N4","v":"-----------"},{"$f":"A4","v":0},{"$f":"COUNTIF($Y$5:$Y$84,AB4)","v":0},{"$f":"AE4&\"-\"&AF4&\"-\"&AG4&\"-\"&AH4&\"-\"&AI4&\"-\"&AJ4&\"-\"&AK4&\"-\"&AL4&\"-\"&AM4&\"-\"&AN4&\"-\"&AO4&\"-\"&AP4","v":"-----------"},{"$f":"IFERROR(VLOOKUP(AB4,$Y$5:$Z$84,2,FALSE),0)","v":0},null,{"$f":"$C$4","v":""},{"$f":"$D$4","v":""},{"$f":"$E$4","v":""},{"$f":"$F$4","v":""},{"$f":"$G$4","v":""},{"$f":"$H$4","v":""},{"$f":"$I$4","v":""},{"$f":"$J$4","v":""},{"$f":"$K$4","v":""},{"$f":"$L$4","v":""},{"$f":"$M$4","v":""},{"$f":"$N$4","v":""},{"$f":"AE4","v":""},{"$f":"AP4","v":""},{"$f":"AO4","v":""},{"$f":"AN4","v":""},{"$f":"AM4","v":""},{"$f":"AL4","v":""},{"$f":"AK4","v":""},{"$f":"AJ4","v":""},{"$f":"AI4","v":""},{"$f":"AH4","v":""},{"$f":"AG4","v":""},{"$f":"AF4","v":""},{"$f":"AK4","v":""},{"$f":"AJ4","v":""},{"$f":"AI4","v":""},{"$f":"AH4","v":""},{"$f":"AG4","v":""},{"$f":"AF4","v":""},{"$f":"AE4","v":""},{"$f":"AP4","v":""},{"$f":"AO4","v":""},{"$f":"AN4","v":""},{"$f":"AM4","v":""},{"$f":"AL4","v":""},{"$f":"BC4","v":""},{"$f":"BN4","v":""},{"$f":"BM4","v":""},{"$f":"BL4","v":""},{"$f":"BK4","v":""},{"$f":"BJ4","v":""},{"$f":"BI4","v":""},{"$f":"BH4","v":""},{"$f":"BG4","v":""},{"$f":"BF4","v":""},{"$f":"BE4","v":""},{"$f":"BD4","v":""}]
[1,"1A",1,2,8,11,12,3,4,5,6,10,7,9,2,1,38,19,2,"IIIbR","H-2","A.c.",null,null,"1-2-8-11-12-3-4-5-6-10-7-9",{"$f":"A5","v":1},{"$f":"COUNTIF($Y$4:$Y$84,AB5)","v":1},"-----------",{"$f":"IFERROR(VLOOKUP(AB5,$Y$5:$Z$84,2,FALSE),0)","v":0},null,{"$f":"$M$4","v":""},{"$f":"$N$4","v":""},{"$f":"$C$4","v":""},{"$f":"$D$4","v":""},{"$f":"$E$4","v":""},{"$f":"$F$4","v":""},{"$f":"$G$4","v":""},{"$f":"$H$4","v":""},{"$f":"$I$4","v":""},{"$f":"$J$4","v":""},{"$f":"$K$4","v":""},{"$f":"$L$4","v":""},{"$f":"AE5","v":""},{"$f":"AP5","v":""},{"$f":"AO5","v":""},{"$f":"AN5","v":""},{"$f":"AM5","v":""},{"$f":"AL5","v":""},{"$f":"AK5","v":""},{"$f":"AJ5","v":""},{"$f":"AI5","v":""},{"$f":"AH5","v":""},{"$f":"AG5","v":""},{"$f":"AF5","v":""},{"$f":"AK5","v":""},{"$f":"AJ5","v":""},{"$f":"AI5","v":""},{"$f":"AH5","v":""},{"$f":"AG5","v":""},{"$f":"AF5","v":""},{"$f":"AE5","v":""},{"$f":"AP5","v":""},{"$f":"AO5","v":""},{"$f":"AN5","v":""},{"$f":"AM5","v":""},{"$f":"AL5","v":""},{"$f":"BC5","v":""},{"$f":"BN5","v":""},{"$f":"BM5","v":""},{"$f":"BL5","v":""},{"$f":"BK5","v":""},{"$f":"BJ5","v":""},{"$f":"BI5","v":""},{"$f":"BH5","v":""},{"$f":"BG5","v":""},{"$f":"BF5","v":""},{"$f":"BE5","v":""},{"$f":"BD5","v":""}]
[2,"2A",1,2,5,11,12,4,6,3,7,8,9,10,1,1,40,20,2,"IIId","H-2","A.c.",null,null,"1-2-5-11-12-4-6-3-7-8-9-10",{"$f":"A6","v":2},1,"-----------",0,null,{"$f":"$K$4","v":""},{"$f":"$L$4","v":""},{"$f":"$M$4","v":""},{"$f":"$N$4","v":""},{"$f":"$C$4","v":""},{"$f":"$D$4","v":""},{"$f":"$E$4","v":""},{"$f":"$F$4","v":""},{"$f":"$G$4","v":""},{"$f":"$H$4","v":""},{"$f":"$I$4","v":""},{"$f":"$J$4","v":""},"","","","","","","","","","","","","","","","","","","","","","","","","","","","","","","","","","","",""]
[3,"3A",1,2,5,12,11,3,6,4,8,7,9,10,41,2,40,20,1,"Ic","H-1",null,null,null,"1-2-5-12-11-3-6-4-8-7-9-10",3,1,"-----------",0,null,{"$f":"$I$4","v":""},{"$f":"$J$4","v":""},{"$f":"$K$4","v":""},{"$f":"$L$4","v":""},{"$f":"$M$4","v":""},{"$f":"$N$4","v":""},{"$f":"$C$4","v":""},{"$f":"$D$4","v":""},{"$f":"$E$4","v":""},{"$f":"$F$4","v":""},{"$f":"$G$4","v":""},{"$f":"$H$4","v":""},"","","","","","","","","","","","","","","","","","","","","","","","","","","","","","","","","","","",""]
[4,"4A",1,2,7,12,11,4,3,5,6,10,8,9,42,3,36,18,1,"Ic","H-1",null,null,null,"1-2-7-12-11-4-3-5-6-10-8-9",4,1,"-----------",0,null,{"$f":"$G$4","v":""},{"$f":"$H$4","v":""},{"$f":"$I$4","v":""},{"$f":"$J$4","v":""},{"$f":"$K$4","v":""},{"$f":"$L$4","v":""},{"$f":"$M$4","v":""},{"$f":"$N$4","v":""},{"$f":"$C$4","v":""},{"$f":"$D$4","v":""},{"$f":"$E$4","v":""},{"$f":"$F$4","v":""},"","","","","","","","","","","","","","","","","","","","","","","","","","","","","","","","","","","",""]
[5,"5A",1,3,5,10,12,2,9,4,8,6,7,11,6,4,42,21,2,"Ic","H-3","A.c.",null,null,"1-3-5-10-12-2-9-4-8-6-7-11",5,1,"-----------",0,null,{"$f":"$E$4","v":""},{"$f":"$F$4","v":""},{"$f":"$G$4","v":""},{"$f":"$H$4","v":""},{"$f":"$I$4","v":""},{"$f":"$J$4","v":""},{"$f":"$K$4","v":""},{"$f":"$L$4","v":""},{"$f":"$M$4","v":""},{"$f":"$N$4","v":""},{"$f":"$C$4","v":""},{"$f":"$D$4","v":""},"","","","","","","","","","","","","","","","","","","","","","","","","","","","","","","","","","","",""]
[6,"6A",1,3,8,10,12,2,6,7,5,9,4,11,5,4,36,18,2,"Ic","H-3","A.c.",null,null,"1-3-8-10-12-2-6-7-5-9-4-11",6,1,"-----------",0,null,{"$f":"AQ4","v":""},{"$f":"AR4","v":""},"","","","","","","","","",""]
[7,"7A",1,3,8,12,10,4,2,7,5,11,6,9,59,5,32,16,1,"Ic","H-1",null,null,null,"1-3-8-12-10-4-2-7-5-11-6-9",7,1,"-----------",0,null,{"$f":"AQ5","v":""},{"$f":"AR5","v":""},{"$f":"AS5","v":""},{"$f":"AT5","v":""},{"$f":"AU5","v":""},{"$f":"AV5","v":""},{"$f":"AW5","v":""},{"$f":"AX5","v":""},{"$f":"AY5","v":""},{"$f":"AZ5","v":""},{"$f":"BA5","v":""},{"$f":"BB5","v":""}]
[8,"8A",1,4,2,10,11,5,9,3,7,6,8,12,45,6,38,19,1,"IIeR","H-2",null,null,null,"1-4-2-10-11-5-9-3-7-6-8-12",8,1,"-----------",0,null,"","","","","","","","","","","",""]
[9,"9A",1,4,7,11,10,2,6,9,5,8,3,12,62,7,32,16,2,"Ib","H-2",null,null,null,"1-4-7-11-10-2-6-9-5-8-3-12",9,1,"-----------",0,null,"","","","","","","","","","","",""]
[10,"10A",1,4,3,12,9,5,6,2,10,7,11,8,50,8,40,20,1,"Ic","H-1",null,null,null,"1-4-3-12-9-5-6-2-10-7-11-8",10,1,"-----------",0,null,"","","","","","","","","","","",""]
[11,"11A",1,5,4,8,12,3,11,2,9,6,7,10,12,9,44,22,2,"Ic","H-3","A.c.",null,null,"1-5-4-8-12-3-11-2-9-6-7-10",11,1,"-----------",0,null,"","","","","","","","","","","",""]
[12,"9B",1,5,9,8,12,3,6,7,4,11,2,10,11,9,34,17,2,"Ic","H-3","A.c.",null,null,"1-5-9-8-12-3-6-7-4-11-2-10",12,null,null,null,null,{"$f":"BC4","v":""},{"$f":"BD4","v":""},"","","","","","","","","",""]
[13,"6B",1,5,7,9,11,4,6,8,3,10,2,12,49,10,30,15,2,"Ib","H-2",null,null,null,"1-5-7-9-11-4-6-8-3-10-2-12",13,null,null,null,null,{"$f":"BC5","v":""},{"$f":"BD5","v":""},{"$f":"BE5","v":""},{"$f":"BF5","v":""},{"$f":"BG5","v":""},{"$f":"BH5","v":""},{"$f":"BI5","v":""},{"$f":"BJ5","v":""},{"$f":"BK5","v":""},{"$f":"BL5","v":""},{"$f":"BM5","v":""},{"$f":"BN5","v":""}]
[14,"12A",1,5,4,11,9,3,8,2,12,6,10,7,24,11,44,22,2,"IIIb","H-2",null,null,null,"1-5-4-11-9-3-8-2-12-6-10-7",14,null,null,null,null,"","","","","","","","","","","",""]
[15,"13A",1,5,10,11,9,3,2,8,6,12,4,7,64,12,32,16,1,"Ib","H-2",null,null,null,"1-5-10-11-9-3-2-8-6-12-4-7",15,null,null,null,null,"","","","","","","","","","","",""]
[16,"7B",1,5,7,11,9,6,2,8,3,12,4,10,73,13,26,13,1,"Ib","H-2","M.p.",null,null,"1-5-7-11-9-6-2-8-3-12-4-10",16,null,null,null,null,"","","","","","","","","","","",""]
[17,"14A",1,5,3,12,8,2,9,6,10,4,7,11,71,14,38,19,1,"Ic","H-1",null,null,null,"1-5-3-12-8-2-9-6-10-4-7-11",17,null,null,null,null,"","","","","","","","","","","",""]
[18,"15A",1,5,4,12,8,7,3,2,9,10,11,6,47,15,36,18,1,"Ic","H-1",null,null,null,"1-5-4-12-8-7-3-2-9-10-11-6",18,null,null,null,null,{"$f":"BO4","v":""},{"$f":"BP4","v":""},"","","","","","","","","",""]
[19,"1B",1,6,5,10,9,7,4,8,2,11,3,12,74,16,24,12,1,"IIa","H-2",null,null,null,"1-6-5-10-9-7-4-8-2-11-3-12",19,null,null,null,null,{"$f":"BO5","v":""},{"$f":"BP5","v":""},{"$f":"BQ5","v":""},{"$f":"BR5","v":""},{"$f":"BS5","v":""},{"$f":"BT5","v":""},{"$f":"BU5","v":""},{"$f":"BV5","v":""},{"$f":"BW5","v":""},{"$f":"BX5","v":""},{"$f":"BY5","v":""},{"$f":"BZ5","v":""}]
[20,"4B",1,6,5,10,9,8,3,7,2,12,4,11,75,17,24,12,1,"Ib","H-2",null,null,null,"1-6-5-10-9-8-3-7-2-12-4-11",20,null,null,null,null,"","","","","","","","","","","",""]
[21,"16A",1,6,3,11,8,2,10,7,9,4,5,12,70,18,36,18,2,"Ib","H-2",null,null,null,"1-6-3-11-8-2-10-7-9-4-5-12",21,null,null,null,null,"","","","","","","","","","","",""]
[22,"17A",1,6,2,12,7,3,9,5,11,4,8,10,57,19,38,19,1,"Ic","H-1",null,null,null,"1-6-2-12-7-3-9-5-11-4-8-10",22,null,null,null,null,"","","","","","","","","","","",""]
[23,"13B",1,6,8,12,7,4,2,10,5,11,3,9,77,20,26,13,1,"Ic","H-1","M.p.",null,null,"1-6-8-12-7-4-2-10-5-11-3-9",23,null,null,null,null,"","","","","","","","","","","",""]
[24,"8B",1,7,3,6,12,8,9,2,4,10,5,11,14,11,34,17,2,"IIId","H-2",null,null,null,"1-7-3-6-12-8-9-2-4-10-5-11",24]
[25,"18A",1,7,4,8,10,2,12,3,11,5,6,9,40,21,44,22,1,"Ia","H-2",null,null,null,"1-7-4-8-10-2-12-3-11-5-6-9",25]
[26,"19A",1,7,2,8,10,4,12,3,9,5,6,11,36,22,40,20,1,"Ia","H-2",null,null,null,"1-7-2-8-10-4-12-3-9-5-6-11",26]
[27,"2B",1,7,3,8,10,9,6,5,2,11,4,12,67,23,26,13,1,"IIeR","H-2","M.p.",null,null,"1-7-3-8-10-9-6-5-2-11-4-12",27]
[28,"20A",1,7,2,10,8,3,11,6,9,4,5,12,56,24,36,18,2,"Ib","H-2",null,null,null,"1-7-2-10-8-3-11-6-9-4-5-12",28]
[29,"17B",1,7,3,12,6,2,9,8,10,4,5,11,68,25,34,17,1,"Ic","H-1",null,null,null,"1-7-3-12-6-2-9-8-10-4-5-11",29]
[30,"5B",1,8,4,6,11,7,9,5,3,10,2,12,53,26,30,15,2,"Ib","H-2",null,null,null,"1-8-4-6-11-7-9-5-3-10-2-12",30]
[31,"3B",1,8,4,7,10,9,6,5,2,12,3,11,66,27,26,13,1,"Ib","H-2","M.p.",null,null,"1-8-4-7-10-9-6-5-2-12-3-11",31]
[32,"20B",1,8,3,10,7,2,11,5,12,4,6,9,33,28,40,20,2,"Ib","H-2","A.c.",null,null,{"$f":"C36&\"-\"&D36&\"-\"&E36&\"-\"&F36&\"-\"&G36&\"-\"&H36&\"-\"&I36&\"-\"&J36&\"-\"&K36&\"-\"&L36&\"-\"&M36&\"-\"&N36","v":"1-8-3-10-7-2-11-5-12-4-6-9"},32]
[33,"16B",1,8,2,11,6,3,10,5,12,4,7,9,32,28,38,19,2,"Ib","H-2","A.c.",null,null,"1-8-2-11-6-3-10-5-12-4-7-9",33]
[34,"14B",1,8,2,12,5,3,9,7,11,4,6,10,54,29,34,17,1,"Ic","H-1",null,null,null,"1-8-2-12-5-3-9-7-11-4-6-10",34]
[35,"15B",1,8,7,12,5,4,3,11,6,10,2,9,80,30,24,12,1,"Ic","H-1",null,null,null,"1-8-7-12-5-4-3-11-6-10-2-9",35]
[36,"19B",1,9,3,5,11,6,12,2,7,8,4,10,26,22,38,19,1,"Ia","H-2",null,null,null,"1-9-3-5-11-6-12-2-7-8-4-10",36]
[37,"11B",1,9,2,6,10,7,11,4,5,8,3,12,52,31,32,16,2,"Ib","H-2",null,null,null,"1-9-2-6-10-7-11-4-5-8-3-12",37]
[38,"12B",1,9,3,11,5,4,8,10,7,6,2,12,79,32,26,13,1,"IIa","H-2","M.p.",null,null,"1-9-3-11-5-4-8-10-7-6-2-12",38]
[39,"10B",1,9,5,12,4,3,6,11,8,7,2,10,78,33,26,13,1,"Ic","H-1","M.p.",null,null,"1-9-5-12-4-3-6-11-8-7-2-10",39]
[40,"18B",1,10,2,8,7,4,12,6,9,5,3,11,25,21,34,17,1,"Ia","H-2",null,null,null,"1-10-2-8-7-4-12-6-9-5-3-11",40]
[41,"3D",2,1,8,11,12,3,4,6,5,9,7,10,3,2,38,19,1,"Ic","H-1",null,null,null,"2-1-8-11-12-3-4-6-5-9-7-10",41]
[42,"4D",2,1,6,11,12,4,5,3,7,8,10,9,4,3,42,21,1,"Ic","H-1",null,null,null,"2-1-6-11-12-4-5-3-7-8-10-9",42]
[43,"1D",2,1,6,12,11,3,5,4,8,7,10,9,44,34,42,21,2,"IIId","H-2","A.c.",null,null,"2-1-6-12-11-3-5-4-8-7-10-9",43]
[44,"2D",2,1,7,12,11,4,3,6,5,9,8,10,43,34,36,18,2,"IIIbR","H-2","A.c.",null,null,"2-1-7-12-11-4-3-6-5-9-8-10",44]
[45,"12D",2,3,11,9,12,1,5,7,6,10,4,8,8,6,40,20,1,"IIc","H-2",null,null,null,"2-3-11-9-12-1-5-7-6-10-4-8",45]
[46,"18C",2,3,5,11,10,1,9,7,8,4,6,12,63,35,40,20,1,"Ic","H-1",null,null,null,"2-3-5-11-10-1-9-7-8-4-6-12",46]
[47,"15D",2,3,4,11,10,6,5,1,9,8,12,7,18,15,42,21,1,"Ic","H-1",null,null,null,"2-3-4-11-10-6-5-1-9-8-12-7",47]
[48,"11D",2,3,8,12,9,1,5,10,6,7,4,11,72,36,34,17,2,"Ib","H-2",null,null,null,"2-3-8-12-9-1-5-10-6-7-4-11",48]
[49,"5C",2,4,6,8,12,1,11,3,10,5,7,9,13,10,48,24,2,"Ia","H-2",null,null,null,"2-4-6-8-12-1-11-3-10-5-7-9",49]
[50,"10D",2,5,12,9,10,1,4,8,7,11,3,6,10,8,38,19,1,"Ib","H-2",null,null,null,"2-5-12-9-10-1-4-8-7-11-3-6",50]
[51,"20D",2,5,4,12,7,1,9,8,10,3,6,11,69,37,38,19,2,"Ib","H-2",null,null,null,"2-5-4-12-7-1-9-8-10-3-6-11",51]
[52,"9C",2,6,3,7,11,4,12,1,10,5,8,9,37,31,46,23,2,"Ic","H-3",null,null,null,"2-6-3-7-11-4-12-1-10-5-8-9",52]
[53,"6C",2,6,4,8,10,3,11,1,12,5,9,7,30,26,48,24,2,"Ia","H-2",null,null,null,"2-6-4-8-10-3-11-1-12-5-9-7",53]
[54,"14C",2,6,4,10,8,1,11,5,12,3,7,9,34,29,44,22,1,"Ia","H-2",null,null,null,"2-6-4-10-8-1-11-5-12-3-7-9",54]
[55,"19C",2,6,5,11,7,1,9,10,8,4,3,12,76,38,34,17,1,"Ic","H-1",null,null,null,"2-6-5-11-7-1-9-10-8-4-3-12",55]
[56,"16C",2,7,4,9,8,1,12,6,11,3,5,10,28,24,42,21,2,"Ib","H-2",null,null,null,"2-7-4-9-8-1-12-6-11-3-5-10",56]
[57,"17D",2,8,4,10,6,1,11,7,12,3,5,9,22,19,40,20,1,"Ia","H-2",null,null,null,"2-8-4-10-6-1-11-7-12-3-5-9",57]
[58,"8D",2,8,6,12,4,1,7,11,10,5,3,9,65,39,32,16,2,"IIIe","H-2",null,null,null,"2-8-6-12-4-1-7-11-10-5-3-9",58]
[59,"7D",3,1,5,10,12,4,7,2,8,6,11,9,7,5,46,23,1,"Ic","H-1",null,null,null,"3-1-5-10-12-4-7-2-8-6-11-9",59]
[60,"6D",3,1,5,12,10,2,7,6,8,4,9,11,61,40,42,21,2,"Ic","H-3","A.c.",null,null,"3-1-5-12-10-2-7-6-8-4-9-11",60]
[61,"5D",3,1,8,12,10,2,4,9,5,7,6,11,60,40,36,18,2,"Ic","H-3","A.c.",null,null,"3-1-8-12-10-2-4-9-5-7-6-11",61]
[62,"11C",3,2,6,9,12,1,10,5,8,4,7,11,9,7,46,23,2,"Ia","H-2",null,null,null,"3-2-6-9-12-1-10-5-8-4-7-11",62]
[63,"18D",3,2,8,10,11,1,7,9,5,6,4,12,46,35,38,19,1,"Ic","H-1",null,null,null,"3-2-8-10-11-1-7-9-5-6-4-12",63]
[64,"13C",3,2,4,10,11,5,7,1,9,6,12,8,15,12,46,23,1,"Ic","H-1",null,null,null,{"$f":"C68&\"-\"&D68&\"-\"&E68&\"-\"&F68&\"-\"&G68&\"-\"&H68&\"-\"&I68&\"-\"&J68&\"-\"&K68&\"-\"&L68&\"-\"&M68&\"-\"&N68","v":"3-2-4-10-11-5-7-1-9-6-12-8"},64]
[65,"12C",3,2,6,12,9,1,7,5,11,4,10,8,58,39,46,23,2,"IIIaR","H-2",null,null,null,"3-2-6-12-9-1-7-5-11-4-10-8",65]
[66,"3C",3,4,7,8,11,1,10,2,12,5,9,6,31,27,52,26,1,"Ia","H-2","M.v.",null,null,"3-4-7-8-11-1-10-2-12-5-9-6",{"$f":"A70","v":66}]
[67,"1C",3,4,7,8,11,2,9,1,12,6,10,5,27,23,52,26,1,"IIaR","H-2","M.v.",null,null,"3-4-7-8-11-2-9-1-12-6-10-5",67]
[68,"17C",3,5,4,11,7,1,10,6,12,2,8,9,29,25,44,22,1,"Ia","H-2",null,null,null,"3-5-4-11-7-1-10-6-12-2-8-9",68]
[69,"16D",3,5,4,12,6,1,9,8,11,2,7,10,51,37,40,20,2,"Ib","H-2",null,null,null,"3-5-4-12-6-1-9-8-11-2-7-10",69]
[70,"20C",3,6,4,9,8,1,12,7,10,2,5,11,21,18,42,21,2,"Ib","H-2",null,null,null,"3-6-4-9-8-1-12-7-10-2-5-11",70]
[71,"14D",3,7,4,11,5,1,10,8,12,2,6,9,17,14,40,20,1,"Ia","H-2",null,null,null,"3-7-4-11-5-1-10-8-12-2-6-9",71]
[72,"9D",4,1,5,10,11,2,9,6,7,3,8,12,48,36,44,22,2,"Ia","H-2",null,null,null,"4-1-5-10-11-2-9-6-7-3-8-12",72]
[73,"7C",4,2,6,8,12,3,9,1,10,5,11,7,16,13,52,26,1,"Ia","H-2","M.v.",null,null,"4-2-6-8-12-3-9-1-10-5-11-7",73]
[74,"2C",4,3,8,7,12,1,10,2,11,5,9,6,19,16,54,27,1,"IIaR","H-2",null,null,null,"4-3-8-7-12-1-10-2-11-5-9-6",74]
[75,"4C",4,3,8,7,12,2,9,1,11,6,10,5,20,17,54,27,1,"Ia","H-2",null,null,null,"4-3-8-7-12-2-9-1-11-6-10-5",75]
[76,"19C",4,3,5,9,10,1,11,7,8,2,6,12,55,38,44,22,1,"Ic","H-1",null,null,null,"4-3-5-9-10-1-11-7-8-2-6-12",76]
[77,"13D",5,1,6,9,11,3,8,2,10,4,12,7,23,20,52,26,1,"Ia","H-2","M.v.",null,null,"5-1-6-9-11-3-8-2-10-4-12-7",77]
[78,"10C",5,2,7,10,9,1,8,4,12,3,11,6,39,33,52,26,1,"Ia","H-2","M.v.",null,null,"5-2-7-10-9-1-8-4-12-3-11-6",78]
[79,"8C",5,3,6,7,11,1,12,4,10,2,8,9,38,32,52,26,1,"IIf","H-2","M.v.",null,null,"5-3-6-7-11-1-12-4-10-2-8-9",79]
[80,"15C",6,1,8,9,10,2,7,3,11,4,12,5,35,30,54,27,1,"Ia","H-2",null,null,null,"6-1-8-9-10-2-7-3-11-4-12-5",80]
[]
["        M.p. = Magic points      M.v. = Magic valleys      A.c. = Adjacent complements"]
[]
[null,null,"A","b","J","c","D","e","K","f","G","h","L","i"]